BEGIN:VCALENDAR
VERSION:2.0
PRODID:-//Musikverein &quot;Harmonie&quot; Gondelsheim e.V. - ECPv6.0.11//NONSGML v1.0//EN
CALSCALE:GREGORIAN
METHOD:PUBLISH
X-ORIGINAL-URL:http://mv-gondelsheim.de
X-WR-CALDESC:Veranstaltungen für Musikverein &quot;Harmonie&quot; Gondelsheim e.V.
REFRESH-INTERVAL;VALUE=DURATION:PT1H
X-Robots-Tag:noindex
X-PUBLISHED-TTL:PT1H
BEGIN:VTIMEZONE
TZID:Europe/Berlin
BEGIN:DAYLIGHT
TZOFFSETFROM:+0100
TZOFFSETTO:+0200
TZNAME:CEST
DTSTART:20260329T010000
END:DAYLIGHT
BEGIN:STANDARD
TZOFFSETFROM:+0200
TZOFFSETTO:+0100
TZNAME:CET
DTSTART:20261025T010000
END:STANDARD
END:VTIMEZONE
BEGIN:VEVENT
DTSTART;VALUE=DATE:20260501
DTEND;VALUE=DATE:20260502
DTSTAMP:20260424T120442
CREATED:20260104T121344Z
LAST-MODIFIED:20260302T201922Z
UID:2257-1777593600-1777679999@mv-gondelsheim.de
SUMMARY:Maifest Wössingen
DESCRIPTION:zu Besuch bei unseren Musikfreunden vom Musikverein Wössingen
URL:http://mv-gondelsheim.de/event/maifest-woessingen
END:VEVENT
BEGIN:VEVENT
DTSTART;TZID=Europe/Berlin:20260514T170000
DTEND;TZID=Europe/Berlin:20260514T190000
DTSTAMP:20260424T120442
CREATED:20260302T201813Z
LAST-MODIFIED:20260302T201942Z
UID:2284-1778778000-1778785200@mv-gondelsheim.de
SUMMARY:Vatertagsfest Münzesheim
DESCRIPTION:zu Besuch bei unseren Musikfreunden vom Musikverein Münzesheim
URL:http://mv-gondelsheim.de/event/vatertagsfest-muenzesheim
END:VEVENT
BEGIN:VEVENT
DTSTART;TZID=Europe/Berlin:20260529T193000
DTEND;TZID=Europe/Berlin:20260529T203000
DTSTAMP:20260424T120442
CREATED:20260214T112840Z
LAST-MODIFIED:20260214T112840Z
UID:2277-1780083000-1780086600@mv-gondelsheim.de
SUMMARY:Generalversammlung
DESCRIPTION:
URL:http://mv-gondelsheim.de/event/generalversammlung-7
LOCATION:Gondelsheim
END:VEVENT
END:VCALENDAR