BEGIN:VCALENDAR
VERSION:2.0
PRODID:-//Musikverein &quot;Harmonie&quot; Gondelsheim e.V. - ECPv6.0.11//NONSGML v1.0//EN
CALSCALE:GREGORIAN
METHOD:PUBLISH
X-WR-CALNAME:Musikverein &quot;Harmonie&quot; Gondelsheim e.V.
X-ORIGINAL-URL:http://mv-gondelsheim.de
X-WR-CALDESC:Veranstaltungen für Musikverein &quot;Harmonie&quot; Gondelsheim e.V.
REFRESH-INTERVAL;VALUE=DURATION:PT1H
X-Robots-Tag:noindex
X-PUBLISHED-TTL:PT1H
BEGIN:VTIMEZONE
TZID:Europe/Berlin
BEGIN:DAYLIGHT
TZOFFSETFROM:+0100
TZOFFSETTO:+0200
TZNAME:CEST
DTSTART:20260329T010000
END:DAYLIGHT
BEGIN:STANDARD
TZOFFSETFROM:+0200
TZOFFSETTO:+0100
TZNAME:CET
DTSTART:20261025T010000
END:STANDARD
END:VTIMEZONE
BEGIN:VEVENT
DTSTART;VALUE=DATE:20260426
DTEND;VALUE=DATE:20260427
DTSTAMP:20260424T122923
CREATED:20260104T121252Z
LAST-MODIFIED:20260309T203052Z
UID:2253-1777161600-1777247999@mv-gondelsheim.de
SUMMARY:Maibaumstellen Gondelsheim
DESCRIPTION:Nur einen Tag nach unserem Frühjahrskonzert dürfen wir in diesem Jahr zum ersten Mal das Gondelsheimer Maibaumstellen am 26. April auf dem Rathausplatz bewirten. Freuen Sie sich auf ein buntes Programm und musikalische Unterhaltung durch den Musikverein Unterreichenbach. Für das leibliche Wohl ist bestens gesorgt: Neben kühlen Getränken\, frisch gegrillten Steaks und Pommes servieren wir Ihnen leckere\, frisch zubereitete Flammkuchen aus dem Ofen!
URL:http://mv-gondelsheim.de/event/maibaumstellen-gondelsheim-2
END:VEVENT
END:VCALENDAR